BEGIN:VCALENDAR
VERSION:2.0
PRODID:-//Social Graces Ballroom Dance Studio - ECPv6.13.1//NONSGML v1.0//EN
CALSCALE:GREGORIAN
METHOD:PUBLISH
X-ORIGINAL-URL:https://socialgracesballroom.com
X-WR-CALDESC:Events for Social Graces Ballroom Dance Studio
REFRESH-INTERVAL;VALUE=DURATION:PT1H
X-Robots-Tag:noindex
X-PUBLISHED-TTL:PT1H
BEGIN:VTIMEZONE
TZID:America/New_York
BEGIN:DAYLIGHT
TZOFFSETFROM:-0500
TZOFFSETTO:-0400
TZNAME:EDT
DTSTART:20250309T070000
END:DAYLIGHT
BEGIN:STANDARD
TZOFFSETFROM:-0400
TZOFFSETTO:-0500
TZNAME:EST
DTSTART:20251102T060000
END:STANDARD
END:VTIMEZONE
BEGIN:VEVENT
DTSTART;VALUE=DATE:20250729
DTEND;VALUE=DATE:20250730
DTSTAMP:20260419T081025
CREATED:20250702T155113Z
LAST-MODIFIED:20250729T222700Z
UID:9485-1753747200-1753833599@socialgracesballroom.com
SUMMARY:No Group Class Scheduled
DESCRIPTION:
URL:https://socialgracesballroom.com/calendar/west-coast-swing-beginner-group-class-2/
LOCATION:Social Graces Ballroom Dance Studio\, 639 East Main St.\, Berryville\, VA\, 22611\, United States
CATEGORIES:Group Class
ATTACH;FMTTYPE=image/jpeg:https://socialgracesballroom.com/wp-content/uploads/2025/04/Swing-Website-Pic.jpg
END:VEVENT
END:VCALENDAR