BEGIN:VCALENDAR
VERSION:2.0
PRODID:-//Social Graces Ballroom Dance Studio - ECPv6.13.1//NONSGML v1.0//EN
CALSCALE:GREGORIAN
METHOD:PUBLISH
X-WR-CALNAME:Social Graces Ballroom Dance Studio
X-ORIGINAL-URL:https://socialgracesballroom.com
X-WR-CALDESC:Events for Social Graces Ballroom Dance Studio
REFRESH-INTERVAL;VALUE=DURATION:PT1H
X-Robots-Tag:noindex
X-PUBLISHED-TTL:PT1H
BEGIN:VTIMEZONE
TZID:America/New_York
BEGIN:DAYLIGHT
TZOFFSETFROM:-0500
TZOFFSETTO:-0400
TZNAME:EDT
DTSTART:20250309T070000
END:DAYLIGHT
BEGIN:STANDARD
TZOFFSETFROM:-0400
TZOFFSETTO:-0500
TZNAME:EST
DTSTART:20251102T060000
END:STANDARD
END:VTIMEZONE
BEGIN:VEVENT
DTSTART;TZID=America/New_York:20250920T170000
DTEND;TZID=America/New_York:20250920T200000
DTSTAMP:20260420T103525
CREATED:20250826T235803Z
LAST-MODIFIED:20250826T235910Z
UID:9582-1758387600-1758398400@socialgracesballroom.com
SUMMARY:In Studio Dance Competition w/Dan Calloway
DESCRIPTION:Come and watch our talented students compete in a friendly atmosphere. Only $10/person to watch! \nVisit our Ballroom Dance Competition page for more info on competitor pricing\, call the studio or ask your instructor.
URL:https://socialgracesballroom.com/calendar/in-studio-dance-competition-w-dan-calloway/
LOCATION:Social Graces Ballroom Dance Studio\, 639 East Main St.\, Berryville\, VA\, 22611\, United States
CATEGORIES:In-Studio Event
ATTACH;FMTTYPE=image/jpeg:https://socialgracesballroom.com/wp-content/uploads/2025/04/Comp-9.21-Winners.jpg
ORGANIZER;CN="Social Graces":MAILTO:socialgracesballroom@gmail.com
END:VEVENT
END:VCALENDAR